BEGIN:VCALENDAR
VERSION:2.0
PRODID:-//St. Mary&#039;s Immaculate Conception - ECPv6.15.20//NONSGML v1.0//EN
CALSCALE:GREGORIAN
METHOD:PUBLISH
X-ORIGINAL-URL:https://stmarysicccvalleyfalls.com
X-WR-CALDESC:Events for St. Mary&#039;s Immaculate Conception
REFRESH-INTERVAL;VALUE=DURATION:PT1H
X-Robots-Tag:noindex
X-PUBLISHED-TTL:PT1H
BEGIN:VTIMEZONE
TZID:America/Chicago
BEGIN:DAYLIGHT
TZOFFSETFROM:-0600
TZOFFSETTO:-0500
TZNAME:CDT
DTSTART:20240310T080000
END:DAYLIGHT
BEGIN:STANDARD
TZOFFSETFROM:-0500
TZOFFSETTO:-0600
TZNAME:CST
DTSTART:20241103T070000
END:STANDARD
BEGIN:DAYLIGHT
TZOFFSETFROM:-0600
TZOFFSETTO:-0500
TZNAME:CDT
DTSTART:20250309T080000
END:DAYLIGHT
BEGIN:STANDARD
TZOFFSETFROM:-0500
TZOFFSETTO:-0600
TZNAME:CST
DTSTART:20251102T070000
END:STANDARD
BEGIN:DAYLIGHT
TZOFFSETFROM:-0600
TZOFFSETTO:-0500
TZNAME:CDT
DTSTART:20260308T080000
END:DAYLIGHT
BEGIN:STANDARD
TZOFFSETFROM:-0500
TZOFFSETTO:-0600
TZNAME:CST
DTSTART:20261101T070000
END:STANDARD
END:VTIMEZONE
BEGIN:VEVENT
DTSTART;TZID=America/Chicago:20250216T110000
DTEND;TZID=America/Chicago:20250216T120000
DTSTAMP:20260419T071218
CREATED:20240823T191042Z
LAST-MODIFIED:20250113T190941Z
UID:2834-1739703600-1739707200@stmarysicccvalleyfalls.com
SUMMARY:Adoration and Confession
DESCRIPTION:
URL:https://stmarysicccvalleyfalls.com/event/adoration-and-confession-10/
LOCATION:KS
ATTACH;FMTTYPE=image/png:https://stmarysicccvalleyfalls.com/wp-content/uploads/2024/03/eucharisticadoration.png
END:VEVENT
END:VCALENDAR