BEGIN:VCALENDAR
VERSION:2.0
PRODID:-//St. Mary&#039;s Immaculate Conception - ECPv6.15.20//NONSGML v1.0//EN
CALSCALE:GREGORIAN
METHOD:PUBLISH
X-ORIGINAL-URL:https://stmarysicccvalleyfalls.com
X-WR-CALDESC:Events for St. Mary&#039;s Immaculate Conception
REFRESH-INTERVAL;VALUE=DURATION:PT1H
X-Robots-Tag:noindex
X-PUBLISHED-TTL:PT1H
BEGIN:VTIMEZONE
TZID:America/Chicago
BEGIN:DAYLIGHT
TZOFFSETFROM:-0600
TZOFFSETTO:-0500
TZNAME:CDT
DTSTART:20250309T080000
END:DAYLIGHT
BEGIN:STANDARD
TZOFFSETFROM:-0500
TZOFFSETTO:-0600
TZNAME:CST
DTSTART:20251102T070000
END:STANDARD
BEGIN:DAYLIGHT
TZOFFSETFROM:-0600
TZOFFSETTO:-0500
TZNAME:CDT
DTSTART:20260308T080000
END:DAYLIGHT
BEGIN:STANDARD
TZOFFSETFROM:-0500
TZOFFSETTO:-0600
TZNAME:CST
DTSTART:20261101T070000
END:STANDARD
BEGIN:DAYLIGHT
TZOFFSETFROM:-0600
TZOFFSETTO:-0500
TZNAME:CDT
DTSTART:20270314T080000
END:DAYLIGHT
BEGIN:STANDARD
TZOFFSETFROM:-0500
TZOFFSETTO:-0600
TZNAME:CST
DTSTART:20271107T070000
END:STANDARD
END:VTIMEZONE
BEGIN:VEVENT
DTSTART;TZID=America/Chicago:20260426T110000
DTEND;TZID=America/Chicago:20260426T120000
DTSTAMP:20260422T174130
CREATED:20260420T184016Z
LAST-MODIFIED:20260420T184016Z
UID:3132-1777201200-1777204800@stmarysicccvalleyfalls.com
SUMMARY:KofC Initiation Ceremony
DESCRIPTION:The Knights of Columbus will be having an initiation ceremony for new members after Mass on Sunday\, April 26th.  All candidates and their families are invited to attend.  All current Knights of Columbus members and their families are encouraged to attend as well.
URL:https://stmarysicccvalleyfalls.com/event/kofc-initiation-ceremony/
ATTACH;FMTTYPE=image/png:https://stmarysicccvalleyfalls.com/wp-content/uploads/2023/08/KofC-Image-2.png
END:VEVENT
BEGIN:VEVENT
DTSTART;TZID=America/Chicago:20260503T113000
DTEND;TZID=America/Chicago:20260503T130000
DTSTAMP:20260422T174130
CREATED:20250421T182515Z
LAST-MODIFIED:20260420T183649Z
UID:2974-1777807800-1777813200@stmarysicccvalleyfalls.com
SUMMARY:KofC cookout to support HS Scholarships
DESCRIPTION:The KoC will be doing a free will offering cookout after mass to support scholarships for local high school students.  Please join us in fellowship and support a good cause for the community!
URL:https://stmarysicccvalleyfalls.com/event/kofc-cookout-to-support-hs-scholarships/
LOCATION:Immaculate Conception Church Basement\, Valley Falls\, KS\, 66088\, United States
ATTACH;FMTTYPE=image/jpeg:https://stmarysicccvalleyfalls.com/wp-content/uploads/2025/04/645688108-cookout.jpg
END:VEVENT
BEGIN:VEVENT
DTSTART;TZID=America/Chicago:20260517T110000
DTEND;TZID=America/Chicago:20260517T114500
DTSTAMP:20260422T174130
CREATED:20250303T135741Z
LAST-MODIFIED:20260420T184100Z
UID:2956-1779015600-1779018300@stmarysicccvalleyfalls.com
SUMMARY:Adoration and Confession
DESCRIPTION:
URL:https://stmarysicccvalleyfalls.com/event/adoration-and-confession-12/
ATTACH;FMTTYPE=image/png:https://stmarysicccvalleyfalls.com/wp-content/uploads/2024/03/eucharisticadoration.png
END:VEVENT
END:VCALENDAR