BEGIN:VCALENDAR
VERSION:2.0
PRODID:-//St. Mary&#039;s Immaculate Conception - ECPv6.15.20//NONSGML v1.0//EN
CALSCALE:GREGORIAN
METHOD:PUBLISH
X-WR-CALNAME:St. Mary&#039;s Immaculate Conception
X-ORIGINAL-URL:https://stmarysicccvalleyfalls.com
X-WR-CALDESC:Events for St. Mary&#039;s Immaculate Conception
REFRESH-INTERVAL;VALUE=DURATION:PT1H
X-Robots-Tag:noindex
X-PUBLISHED-TTL:PT1H
BEGIN:VTIMEZONE
TZID:America/Chicago
BEGIN:DAYLIGHT
TZOFFSETFROM:-0600
TZOFFSETTO:-0500
TZNAME:CDT
DTSTART:20240310T080000
END:DAYLIGHT
BEGIN:STANDARD
TZOFFSETFROM:-0500
TZOFFSETTO:-0600
TZNAME:CST
DTSTART:20241103T070000
END:STANDARD
BEGIN:DAYLIGHT
TZOFFSETFROM:-0600
TZOFFSETTO:-0500
TZNAME:CDT
DTSTART:20250309T080000
END:DAYLIGHT
BEGIN:STANDARD
TZOFFSETFROM:-0500
TZOFFSETTO:-0600
TZNAME:CST
DTSTART:20251102T070000
END:STANDARD
BEGIN:DAYLIGHT
TZOFFSETFROM:-0600
TZOFFSETTO:-0500
TZNAME:CDT
DTSTART:20260308T080000
END:DAYLIGHT
BEGIN:STANDARD
TZOFFSETFROM:-0500
TZOFFSETTO:-0600
TZNAME:CST
DTSTART:20261101T070000
END:STANDARD
END:VTIMEZONE
BEGIN:VEVENT
DTSTART;TZID=America/Chicago:20250119T110000
DTEND;TZID=America/Chicago:20250119T120000
DTSTAMP:20260419T094033
CREATED:20241007T185911Z
LAST-MODIFIED:20250113T190837Z
UID:2871-1737284400-1737288000@stmarysicccvalleyfalls.com
SUMMARY:Adoration and Confession
DESCRIPTION:
URL:https://stmarysicccvalleyfalls.com/event/adoration-and-confession-11/
LOCATION:KS
ATTACH;FMTTYPE=image/png:https://stmarysicccvalleyfalls.com/wp-content/uploads/2024/03/eucharisticadoration.png
END:VEVENT
BEGIN:VEVENT
DTSTART;TZID=America/Chicago:20250119T110000
DTEND;TZID=America/Chicago:20250119T120000
DTSTAMP:20260419T094033
CREATED:20241203T185332Z
LAST-MODIFIED:20241203T191602Z
UID:2915-1737284400-1737288000@stmarysicccvalleyfalls.com
SUMMARY:Birthright breakfast and collection
DESCRIPTION:
URL:https://stmarysicccvalleyfalls.com/event/birthright-breakfast-and-collection-2/
LOCATION:Immaculate Conception Church Basement\, Valley Falls\, KS\, 66088\, United States
ATTACH;FMTTYPE=image/png:https://stmarysicccvalleyfalls.com/wp-content/uploads/2024/12/Birthright.png
END:VEVENT
END:VCALENDAR