BEGIN:VCALENDAR
VERSION:2.0
PRODID:-//St. Mary&#039;s Immaculate Conception - ECPv6.15.20//NONSGML v1.0//EN
CALSCALE:GREGORIAN
METHOD:PUBLISH
X-WR-CALNAME:St. Mary&#039;s Immaculate Conception
X-ORIGINAL-URL:https://stmarysicccvalleyfalls.com
X-WR-CALDESC:Events for St. Mary&#039;s Immaculate Conception
REFRESH-INTERVAL;VALUE=DURATION:PT1H
X-Robots-Tag:noindex
X-PUBLISHED-TTL:PT1H
BEGIN:VTIMEZONE
TZID:America/Chicago
BEGIN:DAYLIGHT
TZOFFSETFROM:-0600
TZOFFSETTO:-0500
TZNAME:CDT
DTSTART:20230312T080000
END:DAYLIGHT
BEGIN:STANDARD
TZOFFSETFROM:-0500
TZOFFSETTO:-0600
TZNAME:CST
DTSTART:20231105T070000
END:STANDARD
BEGIN:DAYLIGHT
TZOFFSETFROM:-0600
TZOFFSETTO:-0500
TZNAME:CDT
DTSTART:20240310T080000
END:DAYLIGHT
BEGIN:STANDARD
TZOFFSETFROM:-0500
TZOFFSETTO:-0600
TZNAME:CST
DTSTART:20241103T070000
END:STANDARD
BEGIN:DAYLIGHT
TZOFFSETFROM:-0600
TZOFFSETTO:-0500
TZNAME:CDT
DTSTART:20250309T080000
END:DAYLIGHT
BEGIN:STANDARD
TZOFFSETFROM:-0500
TZOFFSETTO:-0600
TZNAME:CST
DTSTART:20251102T070000
END:STANDARD
END:VTIMEZONE
BEGIN:VEVENT
DTSTART;VALUE=DATE:20240101
DTEND;VALUE=DATE:20240202
DTSTAMP:20260423T132738
CREATED:20231218T154354Z
LAST-MODIFIED:20231218T154354Z
UID:1185-1704067200-1706831999@stmarysicccvalleyfalls.com
SUMMARY:Father William Vacation
DESCRIPTION:
URL:https://stmarysicccvalleyfalls.com/event/father-william-vacation/
END:VEVENT
BEGIN:VEVENT
DTSTART;VALUE=DATE:20240128
DTEND;VALUE=DATE:20240129
DTSTAMP:20260423T132738
CREATED:20231218T154914Z
LAST-MODIFIED:20231218T154914Z
UID:1193-1706400000-1706486399@stmarysicccvalleyfalls.com
SUMMARY:NCYC Student Hosted Parish Breakfast
DESCRIPTION:
URL:https://stmarysicccvalleyfalls.com/event/ncyc-student-hosted-parish-breakfast/
END:VEVENT
BEGIN:VEVENT
DTSTART;TZID=America/Chicago:20240128T173000
DTEND;TZID=America/Chicago:20240128T193000
DTSTAMP:20260423T132738
CREATED:20231207T184355Z
LAST-MODIFIED:20231207T184355Z
UID:1124-1706463000-1706470200@stmarysicccvalleyfalls.com
SUMMARY:The Marriage Course
DESCRIPTION:The Marriage Course is a seven-week course designed for married couples of all ages to help build\, strengthen\, and continue to grow as a couple. The course aims to equip you with tools to build a healthy marriage and to strengthen the connection between you as a couple – or to restore that connection if you feel you’ve lost it. \nAvailable In-Person and Online \nSign Up Here
URL:https://stmarysicccvalleyfalls.com/event/the-marriage-course-3/
END:VEVENT
END:VCALENDAR